BEGIN:VCALENDAR
VERSION:2.0
PRODID:-//Horizontal Technology Inc. - ECPv6.15.20//NONSGML v1.0//EN
CALSCALE:GREGORIAN
METHOD:PUBLISH
X-ORIGINAL-URL:https://horizontaltech.com
X-WR-CALDESC:Events for Horizontal Technology Inc.
REFRESH-INTERVAL;VALUE=DURATION:PT1H
X-Robots-Tag:noindex
X-PUBLISHED-TTL:PT1H
BEGIN:VTIMEZONE
TZID:America/Edmonton
BEGIN:DAYLIGHT
TZOFFSETFROM:-0700
TZOFFSETTO:-0600
TZNAME:MDT
DTSTART:20240310T090000
END:DAYLIGHT
BEGIN:STANDARD
TZOFFSETFROM:-0600
TZOFFSETTO:-0700
TZNAME:MST
DTSTART:20241103T080000
END:STANDARD
BEGIN:DAYLIGHT
TZOFFSETFROM:-0700
TZOFFSETTO:-0600
TZNAME:MDT
DTSTART:20250309T090000
END:DAYLIGHT
BEGIN:STANDARD
TZOFFSETFROM:-0600
TZOFFSETTO:-0700
TZNAME:MST
DTSTART:20251102T080000
END:STANDARD
BEGIN:DAYLIGHT
TZOFFSETFROM:-0700
TZOFFSETTO:-0600
TZNAME:MDT
DTSTART:20260308T090000
END:DAYLIGHT
BEGIN:STANDARD
TZOFFSETFROM:-0600
TZOFFSETTO:-0700
TZNAME:MST
DTSTART:20261101T080000
END:STANDARD
END:VTIMEZONE
BEGIN:VEVENT
DTSTART;TZID=America/Edmonton:20251007T080000
DTEND;TZID=America/Edmonton:20251009T170000
DTSTAMP:20260423T174129
CREATED:20250702T191939Z
LAST-MODIFIED:20250702T192154Z
UID:1370-1759824000-1760029200@horizontaltech.com
SUMMARY:The Utility Expo 2025
DESCRIPTION:We’re excited to be attending the Utility Expo this year in Louisville\, Kentucky! From October 7-9th\, we’ll have an amazing booth packed with info on our products & services\, replicas of our tools\, and some brand new swag to hand out! Hope to see you there!
URL:https://horizontaltech.com/event/the-utility-expo-2025/
LOCATION:Kentucky Exposition Center · 937 Phillips Ln · Louisville · KY · 40209\, 937 Phillips Ln\, louisville\, Kentucky\, 40209\, United States
END:VEVENT
END:VCALENDAR