BEGIN:VCALENDAR
VERSION:2.0
PRODID:-//Horizontal Technology Inc. - ECPv6.15.20//NONSGML v1.0//EN
CALSCALE:GREGORIAN
METHOD:PUBLISH
X-ORIGINAL-URL:https://horizontaltech.com
X-WR-CALDESC:Events for Horizontal Technology Inc.
REFRESH-INTERVAL;VALUE=DURATION:PT1H
X-Robots-Tag:noindex
X-PUBLISHED-TTL:PT1H
BEGIN:VTIMEZONE
TZID:America/Edmonton
BEGIN:DAYLIGHT
TZOFFSETFROM:-0700
TZOFFSETTO:-0600
TZNAME:MDT
DTSTART:20250309T090000
END:DAYLIGHT
BEGIN:STANDARD
TZOFFSETFROM:-0600
TZOFFSETTO:-0700
TZNAME:MST
DTSTART:20251102T080000
END:STANDARD
BEGIN:DAYLIGHT
TZOFFSETFROM:-0700
TZOFFSETTO:-0600
TZNAME:MDT
DTSTART:20260308T090000
END:DAYLIGHT
BEGIN:STANDARD
TZOFFSETFROM:-0600
TZOFFSETTO:-0700
TZNAME:MST
DTSTART:20261101T080000
END:STANDARD
BEGIN:DAYLIGHT
TZOFFSETFROM:-0700
TZOFFSETTO:-0600
TZNAME:MDT
DTSTART:20270314T090000
END:DAYLIGHT
BEGIN:STANDARD
TZOFFSETFROM:-0600
TZOFFSETTO:-0700
TZNAME:MST
DTSTART:20271107T080000
END:STANDARD
END:VTIMEZONE
BEGIN:VEVENT
DTSTART;TZID=America/Edmonton:20260205T080000
DTEND;TZID=America/Edmonton:20260205T170000
DTSTAMP:20260423T175158
CREATED:20250716T143623Z
LAST-MODIFIED:20260109T232109Z
UID:416-1770278400-1770310800@horizontaltech.com
SUMMARY:Horizontal Directional Drilling Training Seminar February 5th\, 2026
DESCRIPTION:In-Depth Training for HDD Professionals\nJoin us as we provide the most relevant and up-to-date information on HDD design & construction. Our course leaves you with confidence knowing you have the knowledge\, skills and practical thinking to assess HDD design and construction throughout the project lifecycle. \n \nHDD-Agenda-Feb2026 \nPurchase tickets here: HDD Registration Eventbrite
URL:https://horizontaltech.com/event/horizontal-directional-drilling-training-seminar-april-9th-2025/
LOCATION:Ontario
END:VEVENT
BEGIN:VEVENT
DTSTART;TZID=America/Edmonton:20260219T080000
DTEND;TZID=America/Edmonton:20260220T170000
DTSTAMP:20260423T175158
CREATED:20260119T195609Z
LAST-MODIFIED:20260119T195615Z
UID:1891-1771488000-1771606800@horizontaltech.com
SUMMARY:2026 HDD Academy
DESCRIPTION:Horizontal Technology\, Inc. has long been a trusted leader in the HDD market: providing contractors with the guidance systems\, tooling expertise\, and in-field support needed to deliver safer\, more accurate\, and more efficient bores. Their commitment to innovation and precision continues to raise the bar across the trenchless industry. This Feb in Scottsdale\, for the HDDAcademy\, they’ll be attendees trusted leader at the caffeination station as our WakeUp Sponsor!  \n\n\n\n \n\n\n\nAbout the HDD Acadamy \n\n\n\nHorizontal directional drilling experts will deliver presentations during a two-day intensive course designed to equip attendees with knowledge of horizontal directional drilling pre-construction\, design and material selection\, construction and operations.
URL:https://horizontaltech.com/event/2026-hdd-academy/
LOCATION:Building 3 1365 N. Scottsdale Rd\, Scottsdale \, AZ 85257 Room #135
END:VEVENT
BEGIN:VEVENT
DTSTART;TZID=America/Edmonton:20260303T080000
DTEND;TZID=America/Edmonton:20260305T170000
DTSTAMP:20260423T175158
CREATED:20260130T173645Z
LAST-MODIFIED:20260130T173648Z
UID:1931-1772524800-1772730000@horizontaltech.com
SUMMARY:2026 CUIIC Academy Spring Summit
DESCRIPTION:Horizontal Technology Inc and CCI are proud session sponsors at the upcoming 2026 CUIIC Academy Spring Summit March 3-5 in Mississauga\, Ontario. \n\n\n\nIn addition to being a sponsor\, we are also providing outstanding presentations by Stefan Goerz\, VP of CCI\, and Rob Folkins\, Manager of Horizontal Technology Inc! \n\n\n\n\n\n\n\nFor more information on this fantastic event\, please visit: 2026 CUIIC Academy Spring Summit Agenda \n\n\n\n📅 March 3–5\, 2026📍 Mississauga Grand Banquet Centre | Mississauga\, ON
URL:https://horizontaltech.com/event/cuiic-academy/
LOCATION:35 Brunel Rd\, Mississauga\, ON L4Z 3E8\, 35 Brunel Rd\, Mississauga\, Ontario\, L4Z 3E8\, Canada
END:VEVENT
BEGIN:VEVENT
DTSTART;TZID=America/Edmonton:20260313T080000
DTEND;TZID=America/Edmonton:20260313T170000
DTSTAMP:20260423T175158
CREATED:20260119T202444Z
LAST-MODIFIED:20260119T202445Z
UID:1896-1773388800-1773421200@horizontaltech.com
SUMMARY:Houston Pipeliners 2026 Spring Clay Shoot
DESCRIPTION:The Pipeliners Association of Houston Educational Fund is very pleased to once again sponsor our Spring Clay Shoot for members and guests Friday March 13\, 2026 at Westside Sporting Grounds.
URL:https://horizontaltech.com/event/houston-pipeliners-2026-spring-clay-shoot/
LOCATION:Ontario
END:VEVENT
BEGIN:VEVENT
DTSTART;TZID=America/Edmonton:20260329T080000
DTEND;TZID=America/Edmonton:20260402T170000
DTSTAMP:20260423T175158
CREATED:20260119T203019Z
LAST-MODIFIED:20260119T203020Z
UID:1898-1774771200-1775149200@horizontaltech.com
SUMMARY:NASTT No-Dig Palm Springs
DESCRIPTION:The NASTT 2026 No-Dig Show is the largest trenchless technology conference in North America\, where thousands of professionals attend to learn new methods and techniques that will save money and improve infrastructure. This trade show and conference provides attendees an opportunity to learn methods in technical sessions\, network with peers and talk to vendors during exhibit hall hours.
URL:https://horizontaltech.com/event/nastt-no-dig-palm-springs/
LOCATION:Ontario
END:VEVENT
END:VCALENDAR