BEGIN:VCALENDAR
VERSION:2.0
PRODID:-//Horizontal Technology Inc. - ECPv6.15.20//NONSGML v1.0//EN
CALSCALE:GREGORIAN
METHOD:PUBLISH
X-ORIGINAL-URL:https://horizontaltech.com
X-WR-CALDESC:Events for Horizontal Technology Inc.
REFRESH-INTERVAL;VALUE=DURATION:PT1H
X-Robots-Tag:noindex
X-PUBLISHED-TTL:PT1H
BEGIN:VTIMEZONE
TZID:America/Edmonton
BEGIN:DAYLIGHT
TZOFFSETFROM:-0700
TZOFFSETTO:-0600
TZNAME:MDT
DTSTART:20250309T090000
END:DAYLIGHT
BEGIN:STANDARD
TZOFFSETFROM:-0600
TZOFFSETTO:-0700
TZNAME:MST
DTSTART:20251102T080000
END:STANDARD
BEGIN:DAYLIGHT
TZOFFSETFROM:-0700
TZOFFSETTO:-0600
TZNAME:MDT
DTSTART:20260308T090000
END:DAYLIGHT
BEGIN:STANDARD
TZOFFSETFROM:-0600
TZOFFSETTO:-0700
TZNAME:MST
DTSTART:20261101T080000
END:STANDARD
BEGIN:DAYLIGHT
TZOFFSETFROM:-0700
TZOFFSETTO:-0600
TZNAME:MDT
DTSTART:20270314T090000
END:DAYLIGHT
BEGIN:STANDARD
TZOFFSETFROM:-0600
TZOFFSETTO:-0700
TZNAME:MST
DTSTART:20271107T080000
END:STANDARD
END:VTIMEZONE
BEGIN:VEVENT
DTSTART;TZID=America/Edmonton:20260219T080000
DTEND;TZID=America/Edmonton:20260220T170000
DTSTAMP:20260423T132642
CREATED:20260119T195609Z
LAST-MODIFIED:20260119T195615Z
UID:1891-1771488000-1771606800@horizontaltech.com
SUMMARY:2026 HDD Academy
DESCRIPTION:Horizontal Technology\, Inc. has long been a trusted leader in the HDD market: providing contractors with the guidance systems\, tooling expertise\, and in-field support needed to deliver safer\, more accurate\, and more efficient bores. Their commitment to innovation and precision continues to raise the bar across the trenchless industry. This Feb in Scottsdale\, for the HDDAcademy\, they’ll be attendees trusted leader at the caffeination station as our WakeUp Sponsor!  \n\n\n\n \n\n\n\nAbout the HDD Acadamy \n\n\n\nHorizontal directional drilling experts will deliver presentations during a two-day intensive course designed to equip attendees with knowledge of horizontal directional drilling pre-construction\, design and material selection\, construction and operations.
URL:https://horizontaltech.com/event/2026-hdd-academy/
LOCATION:Building 3 1365 N. Scottsdale Rd\, Scottsdale \, AZ 85257 Room #135
END:VEVENT
END:VCALENDAR